Workbook

Sheet Kangatang

Sheet 员工招聘报名表
A1: 海宁农商银行员工招聘报名表
A2: 姓名 | E2: 性别 | G2: 出生年月 | H2: yyyy-mm-mm | I2: 婚姻状况 | L2: 照片
A3: 政治面貌 | E3: 民族 | G3: 出生地 | I3: 健康状况
A4: 身份证号码 | G4: 应聘岗位 | J4: 是否接受岗位调剂
A5: 全 日 制 | B5: 高考录取批次(管培生填写） | E5: 高考分数（管培生填写） | G5: 学历 | I5: 学位
B6: 毕业院校 | G6: 专业 | I6: 毕业时间 | J6: yyyy-mm-mm | K6: 学制
A7: 目前居住地 | G7: 户籍所在地址 | J7: 电子邮箱
A8: 联系电话 | G8: 应聘专业人才岗位工作年限（如金融工作经验/法律诉讼经验等）不含实习
A9: 学习简历（从高中填起）
A10: 起止时间 | E10: 毕业院校及专业
A11: 1. 2. 3. ... | E11: 1. 2. 3.
A12: 实习简历
A13: 起止时间 | E13: 单位名称 | L13: 部门/岗位
A14: 1. 2. … | E14: 1. 2. | L14: 1. 2.
A15: 工作简历（需提供基本养老历年参保证明）
A16: 起止时间 | E16: 单位名称 | L16: 部门/岗位
A17: 1. 2. … | E17: 1. 2. | L17: 1. 2.
A18: 奖惩情况
A19: 相关从业证书
A20: 特长爱好
A21: 其它优势
A22: 家庭主要成员及重要社会关系 | C22: 与本人关系 | D22: 姓名 | F22: 政治面貌 | G22: 单位 | K22: 职务 | L22: 联系电话
C23: 父亲
C24: 母亲
C25: 配偶
C26: 子女
A28: 其他说明 | C28: 是否有亲属在本行工作？如有，请写明其姓名、具体亲属关系、工作单位（支行、部门）、工作岗位及职务。如没有，请写“否”。
C29: 是否患有传染病、高血压、心脏病、糖尿病、肾炎、精神病（包括间歇性）等影响工作的疾病？如有，请详细告之。如没有，请写“否”。
A30: 报考人员意见 | C30: 本人声明：上述填写的内容真实完整，如有不实，本人愿意承担由此产生的一切责任。 报考人签名： 年 月 日
A34: 注：
A35: 1. 家庭成员填写父母、同胞兄弟姐妹、配偶、子女。
A36: 2. 考生网上报名时应附身份证正反面、本硕毕业证书（2026届毕业生提供教育部学籍在线验证报告）、本硕学位证书、个人简历、其他相关证书电子版，境外毕业生提供留服认证相关证明。
A37: 3.本行将根据以上填写内容作为录用条件，如经日后查明填写内容不实的，将根据《中华人民共和国劳动合同法》第三十九条等规定，随时解除劳动合同。

Sheet 员工招聘报名表 (2)
B3: 姓名 | C3: 性别 | D3: 出生年月 | E3: 婚姻状况 | F3: 政治面貌 | G3: 民族 | H3: 出生地 | I3: 健康状况 | J3: 身份证号码 | K3: 应聘岗位（合同制） | L3: 是否接受调剂 | M3: 高考录取批次(管培生填写） | N3: 高考分数（管培生填写） | O3: 学历 | P3: 学位 | Q3: 毕业院校 | R3: 专业 | S3: 毕业时间 | T3: 学制 | U3: 目前居住地 | V3: 户籍所在地 | W3: 电子邮箱 | X3: 联系电话 | Y3: 应聘专业人才岗位工作年限（如金融工作经验/法律诉讼经验等）不含实习 | Z3: 学习简历起止时间 | AA3: 学习简历毕业院校 | AB3: 学习简历毕业专业 | AC3: 实习工作起止时间 | AD3: 实习单位 | AE3: 实习部门 | AF3: 社会工作简历起止时间1 | AG3: 社会工作单位1 | AH3: 社会工作岗位1 | AI3: 奖惩情况 | AJ3: 相关从业证书 | AK3: 特长爱好 | AL3: 其他优势 | AM3: 父亲姓名 | AN3: 政治面貌 | AO3: 单位 | AP3: 职务 | AQ3: 联系电话 | AR3: 母亲姓名 | AS3: 政治面貌 | AT3: 单位 | AU3: 职务 | AV3: 联系电话 | AW3: 配偶姓名 | AX3: 政治面貌 | AY3: 单位 | AZ3: 职务 | BA3: 联系电话 | BB3: 子女姓名 | BC3: 政治面貌 | BD3: 单位 | BE3: 职务 | BF3: 联系电话 | BG3: 其他姓名 | BH3: 政治面貌 | BI3: 单位 | BJ3: 职务 | BK3: 联系电话 | BL3: 是否有亲属在本行工作 | BM3: 是否患有传染病等
B4: =员工招聘报名表!C2 -> 0 | C4: =员工招聘报名表!F2 -> 0 | D4: =员工招聘报名表!H2 -> yyyy-mm-mm | E4: =员工招聘报名表!K2 -> 0 | F4: =员工招聘报名表!C3 -> 0 | G4: =员工招聘报名表!F3 -> 0 | H4: =员工招聘报名表!H3 -> 0 | I4: =员工招聘报名表!K3 -> 0 | J4: =员工招聘报名表!C4 -> 0 | K4: =员工招聘报名表!H4 -> 0 | L4: =员工招聘报名表!K4 -> 0 | M4: =员工招聘报名表!D5 -> 0 | N4: =员工招聘报名表!F5 -> 0 | O4: =员工招聘报名表!H5 -> 0 | P4: =员工招聘报名表!J5 -> 0 | Q4: =员工招聘报名表!C6 -> 0 | R4: =员工招聘报名表!H6 -> 0 | S4: =员工招聘报名表!J6 -> yyyy-mm-mm | T4: =员工招聘报名表!L6 -> 0 | U4: =员工招聘报名表!C7 -> 0 | V4: =员工招聘报名表!H7 -> 0 | W4: =员工招聘报名表!L7 -> 0 | X4: =员工招聘报名表!C8 -> 0 | Y4: =员工招聘报名表!L8 -> 0 | Z4: =员工招聘报名表!A11 -> 1. 2. 3. ... | AA4: =员工招聘报名表!E11 -> 1. 2. 3. | AB4: =员工招聘报名表!L11 -> 0 | AC4: =员工招聘报名表!A14 -> 1. 2. … | AD4: =员工招聘报名表!E14 -> 1. 2. | AE4: =员工招聘报名表!L14 -> 1. 2. | AF4: =员工招聘报名表!A17 -> 1. 2. … | AG4: =员工招聘报名表!E17 -> 1. 2. | AH4: =员工招聘报名表!L17 -> 1. 2. | AI4: =员工招聘报名表!C18 -> 0 | AJ4: =员工招聘报名表!C19 -> 0 | AK4: =员工招聘报名表!C20 -> 0 | AL4: =员工招聘报名表!C21 -> 0 | AM4: =员工招聘报名表!D23 -> 0 | AN4: =员工招聘报名表!F23 -> 0 | AO4: =员工招聘报名表!G23 -> 0 | AP4: =员工招聘报名表!K23 -> 0 | AQ4: =员工招聘报名表!L23 -> 0 | AR4: =员工招聘报名表!D24 -> 0 | AS4: =员工招聘报名表!F24 -> 0 | AT4: =员工招聘报名表!G24 -> 0 | AU4: =员工招聘报名表!K24 -> 0 | AV4: =员工招聘报名表!L24 -> 0 | AW4: =员工招聘报名表!D25 -> 0 | AX4: =员工招聘报名表!F25 -> 0 | AY4: =员工招聘报名表!G25 -> 0 | AZ4: =员工招聘报名表!K25 -> 0 | BA4: =员工招聘报名表!L25 -> 0 | BB4: =员工招聘报名表!D26 -> 0 | BC4: =员工招聘报名表!F26 -> 0 | BD4: =员工招聘报名表!G26 -> 0 | BE4: =员工招聘报名表!K26 -> 0 | BF4: =员工招聘报名表!L26 -> 0 | BG4: =员工招聘报名表!D27 -> 0 | BH4: =员工招聘报名表!F27 -> 0 | BI4: =员工招聘报名表!G27 -> 0 | BJ4: =员工招聘报名表!K26 -> 0 | BK4: =员工招聘报名表!L27 -> 0 | BL4: =员工招聘报名表!K28 -> 0 | BM4: =员工招聘报名表!K29 -> 0
